BEGIN:VCALENDAR
VERSION:2.0
PRODID:-//The Royal Black Institution - ECPv5.13.0//NONSGML v1.0//EN
CALSCALE:GREGORIAN
METHOD:PUBLISH
X-WR-CALNAME:The Royal Black Institution
X-ORIGINAL-URL:http://royalblack.org
X-WR-CALDESC:Events for The Royal Black Institution
BEGIN:VTIMEZONE
TZID:UTC
BEGIN:STANDARD
TZOFFSETFROM:+0000
TZOFFSETTO:+0000
TZNAME:UTC
DTSTART:20160101T000000
END:STANDARD
END:VTIMEZONE
BEGIN:VEVENT
DTSTART;TZID=UTC:20160821T143000
DTEND;TZID=UTC:20160821T170000
DTSTAMP:20260423T093342
CREATED:20160814T225742Z
LAST-MODIFIED:20160814T225742Z
UID:486-1471789800-1471798800@royalblack.org
SUMMARY:Summarisland Royal Black District Chapter No. 6
DESCRIPTION:District Service & Parade \non Sunday 21st August 2016 \nmeet at 2.30p.m. at Cranagill Old Post Office on Fernagreevagh Road\, Loughgall (Hadden’s Corner) \nfor service in Cranagill Methodist Church at 3p.m.
URL:http://royalblack.org/event/summarisland-royal-black-district-chapter-no-6/
END:VEVENT
END:VCALENDAR