BEGIN:VCALENDAR
VERSION:2.0
PRODID:-//The Royal Black Institution - ECPv5.13.0//NONSGML v1.0//EN
CALSCALE:GREGORIAN
METHOD:PUBLISH
X-WR-CALNAME:The Royal Black Institution
X-ORIGINAL-URL:http://royalblack.org
X-WR-CALDESC:Events for The Royal Black Institution
BEGIN:VTIMEZONE
TZID:UTC
BEGIN:STANDARD
TZOFFSETFROM:+0000
TZOFFSETTO:+0000
TZNAME:UTC
DTSTART:20160101T000000
END:STANDARD
END:VTIMEZONE
BEGIN:VEVENT
DTSTART;TZID=UTC:20161016T080000
DTEND;TZID=UTC:20161016T170000
DTSTAMP:20260421T113607
CREATED:20160301T112509Z
LAST-MODIFIED:20160301T112509Z
UID:479-1476604800-1476637200@royalblack.org
SUMMARY:Star of Liverpool R.B.P. 92 – 150th Anniversary Thanksgiving Church Service
DESCRIPTION:Star of Liverpool R.B.P. 92 – 150th Anniversary Thanksgiving Church Service in Peoples Church\, Shaw Street\, Liverpool
URL:http://royalblack.org/event/star-of-liverpool-r-b-p-92-150th-anniversary-thanksgiving-church-service/
END:VEVENT
END:VCALENDAR