BEGIN:VCALENDAR
VERSION:2.0
PRODID:-//The Royal Black Institution - ECPv5.13.0//NONSGML v1.0//EN
CALSCALE:GREGORIAN
METHOD:PUBLISH
X-WR-CALNAME:The Royal Black Institution
X-ORIGINAL-URL:http://royalblack.org
X-WR-CALDESC:Events for The Royal Black Institution
BEGIN:VTIMEZONE
TZID:UTC
BEGIN:STANDARD
TZOFFSETFROM:+0000
TZOFFSETTO:+0000
TZNAME:UTC
DTSTART:20160101T000000
END:STANDARD
END:VTIMEZONE
BEGIN:VEVENT
DTSTART;TZID=UTC:20160806T080000
DTEND;TZID=UTC:20160806T170000
DTSTAMP:20260422T010230
CREATED:20160301T111239Z
LAST-MODIFIED:20160301T111239Z
UID:473-1470470400-1470502800@royalblack.org
SUMMARY:Southport and Fermanagh
DESCRIPTION:Provincial Grand Black Chapter of England – Southport \nCounty Fermanagh Grand Black Chapter – Enniskillen
URL:http://royalblack.org/event/southport-and-fermanagh/
END:VEVENT
END:VCALENDAR