BEGIN:VCALENDAR
VERSION:2.0
PRODID:-//The Royal Black Institution - ECPv5.13.0//NONSGML v1.0//EN
CALSCALE:GREGORIAN
METHOD:PUBLISH
X-WR-CALNAME:The Royal Black Institution
X-ORIGINAL-URL:http://royalblack.org
X-WR-CALDESC:Events for The Royal Black Institution
BEGIN:VTIMEZONE
TZID:UTC
BEGIN:STANDARD
TZOFFSETFROM:+0000
TZOFFSETTO:+0000
TZNAME:UTC
DTSTART:20160101T000000
END:STANDARD
END:VTIMEZONE
BEGIN:VEVENT
DTSTART;VALUE=DATE:20160713
DTEND;VALUE=DATE:20160714
DTSTAMP:20260422T065606
CREATED:20160301T110407Z
LAST-MODIFIED:20160301T110407Z
UID:470-1468368000-1468454399@royalblack.org
SUMMARY:Sham Fight – Scarva
DESCRIPTION:Sham Fight – Scarva \nLurgan R.B.D.C. No. 2 parade in Bangor
URL:http://royalblack.org/event/sham-fight-scarva-2/
END:VEVENT
END:VCALENDAR