BEGIN:VCALENDAR
VERSION:2.0
PRODID:-//The Royal Black Institution - ECPv5.13.0//NONSGML v1.0//EN
CALSCALE:GREGORIAN
METHOD:PUBLISH
X-WR-CALNAME:The Royal Black Institution
X-ORIGINAL-URL:http://royalblack.org
X-WR-CALDESC:Events for The Royal Black Institution
BEGIN:VTIMEZONE
TZID:UTC
BEGIN:STANDARD
TZOFFSETFROM:+0000
TZOFFSETTO:+0000
TZNAME:UTC
DTSTART:20220101T000000
END:STANDARD
END:VTIMEZONE
BEGIN:VEVENT
DTSTART;TZID=UTC:20220326T160000
DTEND;TZID=UTC:20220326T220000
DTSTAMP:20260423T144623
CREATED:20220202T135144Z
LAST-MODIFIED:20220202T135144Z
UID:1964-1648310400-1648332000@royalblack.org
SUMMARY:Rising Star of Paisley RBP 457
DESCRIPTION:Rising Star of Paisley RBP 457 are holding a 125th anniversary parade through the town at 5.30pm on Saturday\, 26th March 2022\, one year later than it should have been due to Covid. There will be a short meeting at 4pm (everyone invited) to welcome guests and the band (Shieldhill Young Defenders). A dance and fundraiser will be held after the parade\, with all monies going to the Erskine Hospital for Ex-Servicemen and Women.
URL:http://royalblack.org/event/rising-star-of-paisley-rbp-457/
END:VEVENT
END:VCALENDAR