BEGIN:VCALENDAR
VERSION:2.0
PRODID:-//The Royal Black Institution - ECPv5.13.0//NONSGML v1.0//EN
CALSCALE:GREGORIAN
METHOD:PUBLISH
X-WR-CALNAME:The Royal Black Institution
X-ORIGINAL-URL:http://royalblack.org
X-WR-CALDESC:Events for The Royal Black Institution
BEGIN:VTIMEZONE
TZID:UTC
BEGIN:STANDARD
TZOFFSETFROM:+0000
TZOFFSETTO:+0000
TZNAME:UTC
DTSTART:20170101T000000
END:STANDARD
END:VTIMEZONE
BEGIN:VEVENT
DTSTART;TZID=UTC:20170908T200000
DTEND;TZID=UTC:20170910T173000
DTSTAMP:20260420T153629
CREATED:20170321T101134Z
LAST-MODIFIED:20170321T101134Z
UID:638-1504900800-1505064600@royalblack.org
SUMMARY:Reformation weekend
DESCRIPTION:Markethill Royal Black District Chapter in conjunction with the Orange Districts of Markethill\, Newtownhamilton and Richhill are hosting a Reformation weekend: \nSeptember 8    Luther Lecture in Richhill area at 8pm \nSeptember 9    ‘5 Solas concert’ in Newtownhamilton High School at 8pm \nSeptember 10  Special Service in Mountnorris Presbyterian Church at 3.30pm conducted by Sir Knt and Bro. Rev. Nigel Reid – the four Districts to meet at 3pm to parade together. \nThe above Districts extend an invitation to all Sir Knights and their familes to join them.
URL:http://royalblack.org/event/reformation-weekend/
END:VEVENT
END:VCALENDAR