BEGIN:VCALENDAR
VERSION:2.0
PRODID:-//The Royal Black Institution - ECPv5.13.0//NONSGML v1.0//EN
CALSCALE:GREGORIAN
METHOD:PUBLISH
X-WR-CALNAME:The Royal Black Institution
X-ORIGINAL-URL:http://royalblack.org
X-WR-CALDESC:Events for The Royal Black Institution
BEGIN:VTIMEZONE
TZID:UTC
BEGIN:STANDARD
TZOFFSETFROM:+0000
TZOFFSETTO:+0000
TZNAME:UTC
DTSTART:20160101T000000
END:STANDARD
END:VTIMEZONE
BEGIN:VEVENT
DTSTART;TZID=UTC:20160813T080000
DTEND;TZID=UTC:20160813T170000
DTSTAMP:20260421T213415
CREATED:20160301T111458Z
LAST-MODIFIED:20160301T111458Z
UID:475-1471075200-1471107600@royalblack.org
SUMMARY:Provincial Grand Black Chapter of Scotland – Glasgow
DESCRIPTION:Provincial Grand Black Chapter of Scotland – Glasgow
URL:http://royalblack.org/event/provincial-grand-black-chapter-of-scotland-glasgow/
END:VEVENT
END:VCALENDAR