BEGIN:VCALENDAR
VERSION:2.0
PRODID:-//The Royal Black Institution - ECPv5.13.0//NONSGML v1.0//EN
CALSCALE:GREGORIAN
METHOD:PUBLISH
X-WR-CALNAME:The Royal Black Institution
X-ORIGINAL-URL:http://royalblack.org
X-WR-CALDESC:Events for The Royal Black Institution
BEGIN:VTIMEZONE
TZID:UTC
BEGIN:STANDARD
TZOFFSETFROM:+0000
TZOFFSETTO:+0000
TZNAME:UTC
DTSTART:20170101T000000
END:STANDARD
END:VTIMEZONE
BEGIN:VEVENT
DTSTART;VALUE=DATE:20170812
DTEND;VALUE=DATE:20170813
DTSTAMP:20260420T204403
CREATED:20170321T100803Z
LAST-MODIFIED:20170321T100803Z
UID:632-1502496000-1502582399@royalblack.org
SUMMARY:Provincial Grand Black Chapter of Scotland
DESCRIPTION:Provincial Grand Black Chapter of Scotland – Kirkintilloch
URL:http://royalblack.org/event/provincial-grand-black-chapter-of-scotland-2/
END:VEVENT
END:VCALENDAR