BEGIN:VCALENDAR
VERSION:2.0
PRODID:-//The Royal Black Institution - ECPv5.13.0//NONSGML v1.0//EN
CALSCALE:GREGORIAN
METHOD:PUBLISH
X-WR-CALNAME:The Royal Black Institution
X-ORIGINAL-URL:http://royalblack.org
X-WR-CALDESC:Events for The Royal Black Institution
BEGIN:VTIMEZONE
TZID:UTC
BEGIN:STANDARD
TZOFFSETFROM:+0000
TZOFFSETTO:+0000
TZNAME:UTC
DTSTART:20170101T000000
END:STANDARD
END:VTIMEZONE
BEGIN:VEVENT
DTSTART;VALUE=DATE:20170730
DTEND;VALUE=DATE:20170731
DTSTAMP:20260423T093737
CREATED:20170321T100532Z
LAST-MODIFIED:20170321T100532Z
UID:626-1501372800-1501459199@royalblack.org
SUMMARY:Provincial Grand Black Chapter of England Church Parade - Liverpool
DESCRIPTION:Provincial Grand Black Chapter of England Church Parade – Liverpool
URL:http://royalblack.org/event/provincial-grand-black-chapter-of-england-church-parade-liverpool/
END:VEVENT
END:VCALENDAR