BEGIN:VCALENDAR
VERSION:2.0
PRODID:-//The Royal Black Institution - ECPv5.13.0//NONSGML v1.0//EN
CALSCALE:GREGORIAN
METHOD:PUBLISH
X-WR-CALNAME:The Royal Black Institution
X-ORIGINAL-URL:http://royalblack.org
X-WR-CALDESC:Events for The Royal Black Institution
BEGIN:VTIMEZONE
TZID:UTC
BEGIN:STANDARD
TZOFFSETFROM:+0000
TZOFFSETTO:+0000
TZNAME:UTC
DTSTART:20160101T000000
END:STANDARD
END:VTIMEZONE
BEGIN:VEVENT
DTSTART;VALUE=DATE:20160410
DTEND;VALUE=DATE:20160418
DTSTAMP:20260424T160044
CREATED:20160301T105731Z
LAST-MODIFIED:20160301T105731Z
UID:465-1460246400-1460937599@royalblack.org
SUMMARY:Newry District Orange & Black Christian Fellowship 2016 Banner Mission:
DESCRIPTION:April 10           Newry District Hall at 3pm \nApril 11           Donaghmore Orange Hall at 7.45pm \nApril 12           Commons Orange Hall at 7.45pm \nApril 13           Ryan Presbyterian Church Hall at 7.45pm \nApril 14           Bessbrook Orange Hall at 7.45pm \nApril 15           Warrenpoint Orange Hall at 7.45pm \nApril 17           Newry District Hall at 3pm
URL:http://royalblack.org/event/newry-district-orange-black-christian-fellowship-2016-banner-mission/
END:VEVENT
END:VCALENDAR