BEGIN:VCALENDAR
VERSION:2.0
PRODID:-//The Royal Black Institution - ECPv5.13.0//NONSGML v1.0//EN
CALSCALE:GREGORIAN
METHOD:PUBLISH
X-WR-CALNAME:The Royal Black Institution
X-ORIGINAL-URL:http://royalblack.org
X-WR-CALDESC:Events for The Royal Black Institution
BEGIN:VTIMEZONE
TZID:UTC
BEGIN:STANDARD
TZOFFSETFROM:+0000
TZOFFSETTO:+0000
TZNAME:UTC
DTSTART:20160101T000000
END:STANDARD
END:VTIMEZONE
BEGIN:VEVENT
DTSTART;TZID=UTC:20160730T140000
DTEND;TZID=UTC:20160730T170000
DTSTAMP:20260422T025427
CREATED:20160301T110645Z
LAST-MODIFIED:20160301T110645Z
UID:472-1469887200-1469898000@royalblack.org
SUMMARY:Mountjoy R.B.P. 240 Banner Unfurling
DESCRIPTION:Mountjoy R.B.P. 240 Banner Unfurling at Ross Orange Hall\, Moorfields\, Ballymena at 2pm
URL:http://royalblack.org/event/mountjoy-r-b-p-240-banner-unfurling/
END:VEVENT
END:VCALENDAR