BEGIN:VCALENDAR
VERSION:2.0
PRODID:-//The Royal Black Institution - ECPv5.13.0//NONSGML v1.0//EN
CALSCALE:GREGORIAN
METHOD:PUBLISH
X-WR-CALNAME:The Royal Black Institution
X-ORIGINAL-URL:http://royalblack.org
X-WR-CALDESC:Events for The Royal Black Institution
BEGIN:VTIMEZONE
TZID:UTC
BEGIN:STANDARD
TZOFFSETFROM:+0000
TZOFFSETTO:+0000
TZNAME:UTC
DTSTART:20170101T000000
END:STANDARD
END:VTIMEZONE
BEGIN:VEVENT
DTSTART;TZID=UTC:20170915T193000
DTEND;TZID=UTC:20170916T193000
DTSTAMP:20260420T081347
CREATED:20170905T150739Z
LAST-MODIFIED:20170905T150739Z
UID:964-1505503800-1505590200@royalblack.org
SUMMARY:“Luther” DVD starring Joseph Finnes about the life of Martin Luther
DESCRIPTION:County Londonderry Grand Orange Lodge\, City of Londonderry Grand Orange Lodge and County Londonderry Grand Black Chapter \nSeptember 15 Christ Church Parish Church Hall\, Castledawson\, BT44 8AZ at 7.30pm. \nSeptember 16 Terrace Row Presbyterian Church\, Coleraine BT52 1JB at 7.30pm. \nSeptember 21 Century Cinema\, Pearse Road\, Letterkenny F92 DA02 at 7.30pm.
URL:http://royalblack.org/event/luther-dvd-starring-joseph-finnes-about-the-life-of-martin-luther/
END:VEVENT
END:VCALENDAR