BEGIN:VCALENDAR
VERSION:2.0
PRODID:-//The Royal Black Institution - ECPv5.13.0//NONSGML v1.0//EN
CALSCALE:GREGORIAN
METHOD:PUBLISH
X-WR-CALNAME:The Royal Black Institution
X-ORIGINAL-URL:http://royalblack.org
X-WR-CALDESC:Events for The Royal Black Institution
BEGIN:VTIMEZONE
TZID:UTC
BEGIN:STANDARD
TZOFFSETFROM:+0000
TZOFFSETTO:+0000
TZNAME:UTC
DTSTART:20160101T000000
END:STANDARD
END:VTIMEZONE
BEGIN:VEVENT
DTSTART;TZID=UTC:20160904T080000
DTEND;TZID=UTC:20160904T170000
DTSTAMP:20260421T151122
CREATED:20160118T141740Z
LAST-MODIFIED:20160118T141740Z
UID:458-1472976000-1473008400@royalblack.org
SUMMARY:Luther 500 Project Service
DESCRIPTION:Further details to be confirmed
URL:http://royalblack.org/event/luther-500-project-service/
END:VEVENT
END:VCALENDAR