BEGIN:VCALENDAR
VERSION:2.0
PRODID:-//The Royal Black Institution - ECPv5.13.0//NONSGML v1.0//EN
CALSCALE:GREGORIAN
METHOD:PUBLISH
X-WR-CALNAME:The Royal Black Institution
X-ORIGINAL-URL:http://royalblack.org
X-WR-CALDESC:Events for The Royal Black Institution
BEGIN:VTIMEZONE
TZID:UTC
BEGIN:STANDARD
TZOFFSETFROM:+0000
TZOFFSETTO:+0000
TZNAME:UTC
DTSTART:20170101T000000
END:STANDARD
END:VTIMEZONE
BEGIN:VEVENT
DTSTART;VALUE=DATE:20170826
DTEND;VALUE=DATE:20170827
DTSTAMP:20260420T171318
CREATED:20170321T101006Z
LAST-MODIFIED:20170321T101006Z
UID:636-1503705600-1503791999@royalblack.org
SUMMARY:Last Saturday Parades
DESCRIPTION:Co. Antrim Grand Black Chapter – Antrim\nSummerisland/Primatial Dists/Killyman & East Tyrone – Aughnacloy\nCity of Belfast Grand Black Chapter – Lisburn\nCo. Down Grand Black Chapter – Comber\nCo. Londonderry Grand Black Chapter – Castledawson\nNorth & West Tyrone – Omagh
URL:http://royalblack.org/event/last-saturday-parades/
END:VEVENT
END:VCALENDAR