BEGIN:VCALENDAR
VERSION:2.0
PRODID:-//The Royal Black Institution - ECPv5.13.0//NONSGML v1.0//EN
CALSCALE:GREGORIAN
METHOD:PUBLISH
X-WR-CALNAME:The Royal Black Institution
X-ORIGINAL-URL:http://royalblack.org
X-WR-CALDESC:Events for The Royal Black Institution
BEGIN:VTIMEZONE
TZID:UTC
BEGIN:STANDARD
TZOFFSETFROM:+0000
TZOFFSETTO:+0000
TZNAME:UTC
DTSTART:20160101T000000
END:STANDARD
END:VTIMEZONE
BEGIN:VEVENT
DTSTART;TZID=UTC:20160827T080000
DTEND;TZID=UTC:20160827T170000
DTSTAMP:20260421T165500
CREATED:20160301T112123Z
LAST-MODIFIED:20160301T112123Z
UID:477-1472284800-1472317200@royalblack.org
SUMMARY:Last Saturday Demonstrations
DESCRIPTION:Co. Antrim Grand Black Chapter – Ballymena \nSummerisland/Primatial Dists/South & East Tyrone – Loughgall \nCity of Belfast Grand Black Chapter – Portadown \nCo. Down Grand Black Chapter – Lisburn \nCo. Londonderry Grand Black Chapter – Raphoe \nNorth & West Tyrone – Castlederg
URL:http://royalblack.org/event/last-saturday-demonstrations-2/
END:VEVENT
END:VCALENDAR