BEGIN:VCALENDAR
VERSION:2.0
PRODID:-//The Royal Black Institution - ECPv5.13.0//NONSGML v1.0//EN
CALSCALE:GREGORIAN
METHOD:PUBLISH
X-WR-CALNAME:The Royal Black Institution
X-ORIGINAL-URL:http://royalblack.org
X-WR-CALDESC:Events for The Royal Black Institution
BEGIN:VTIMEZONE
TZID:UTC
BEGIN:STANDARD
TZOFFSETFROM:+0000
TZOFFSETTO:+0000
TZNAME:UTC
DTSTART:20160101T000000
END:STANDARD
END:VTIMEZONE
BEGIN:VEVENT
DTSTART;TZID=UTC:20160705T183000
DTEND;TZID=UTC:20160705T200000
DTSTAMP:20260422T090148
CREATED:20160301T110236Z
LAST-MODIFIED:20160301T110236Z
UID:469-1467743400-1467748800@royalblack.org
SUMMARY:Knights of the Star & Garter R.B.P. 212 – 60th Anniversary Divine Service
DESCRIPTION:Knights of the Star & Garter R.B.P. 212 – 60th Anniversary Divine Service in New Row Presbyterian Church\, Coleraine.  Parade leaves Coleraine Orange Hall\, Union Street at 6pm for Service at 6.30pm.
URL:http://royalblack.org/event/knights-of-the-star-garter-r-b-p-212-60th-anniversary-divine-service/
END:VEVENT
END:VCALENDAR