BEGIN:VCALENDAR
VERSION:2.0
PRODID:-//The Royal Black Institution - ECPv5.13.0//NONSGML v1.0//EN
CALSCALE:GREGORIAN
METHOD:PUBLISH
X-WR-CALNAME:The Royal Black Institution
X-ORIGINAL-URL:http://royalblack.org
X-WR-CALDESC:Events for The Royal Black Institution
BEGIN:VTIMEZONE
TZID:UTC
BEGIN:STANDARD
TZOFFSETFROM:+0000
TZOFFSETTO:+0000
TZNAME:UTC
DTSTART:20170101T000000
END:STANDARD
END:VTIMEZONE
BEGIN:VEVENT
DTSTART;VALUE=DATE:20170916
DTEND;VALUE=DATE:20170917
DTSTAMP:20260420T041919
CREATED:20170905T151041Z
LAST-MODIFIED:20170905T151041Z
UID:974-1505520000-1505606399@royalblack.org
SUMMARY:International Lecturer’s Conference
DESCRIPTION:September 16 International Lecturer’s Conference – Edinburgh Tabernacle (Parish) Church\, 41-42 Inverleith Gardens\,\nFerry Road\, Edinburgh EH3 5PR.
URL:http://royalblack.org/event/international-lecturers-conference-4/
END:VEVENT
END:VCALENDAR