BEGIN:VCALENDAR
VERSION:2.0
PRODID:-//The Royal Black Institution - ECPv5.13.0//NONSGML v1.0//EN
CALSCALE:GREGORIAN
METHOD:PUBLISH
X-WR-CALNAME:The Royal Black Institution
X-ORIGINAL-URL:http://royalblack.org
X-WR-CALDESC:Events for The Royal Black Institution
BEGIN:VTIMEZONE
TZID:UTC
BEGIN:STANDARD
TZOFFSETFROM:+0000
TZOFFSETTO:+0000
TZNAME:UTC
DTSTART:20170101T000000
END:STANDARD
END:VTIMEZONE
BEGIN:VEVENT
DTSTART;TZID=UTC:20170915T170000
DTEND;TZID=UTC:20170915T190000
DTSTAMP:20260420T100827
CREATED:20170905T151005Z
LAST-MODIFIED:20170905T151005Z
UID:972-1505494800-1505502000@royalblack.org
SUMMARY:Historical Talk on The Protestant Reformation
DESCRIPTION:September 15 Historical Talk on The Protestant Reformation in The Magdalene Chapel\, 41 Cowgate\, Edinburgh\, \nEH1 1JR.  Oration by Rev. Ray Williamson at 6pm.  Meeting time 5pm to allow visitation to the Chapel.  All Sir Knights and their families welcome.
URL:http://royalblack.org/event/historical-talk-on-the-protestant-reformation/
END:VEVENT
END:VCALENDAR