BEGIN:VCALENDAR
VERSION:2.0
PRODID:-//The Royal Black Institution - ECPv5.13.0//NONSGML v1.0//EN
CALSCALE:GREGORIAN
METHOD:PUBLISH
X-WR-CALNAME:The Royal Black Institution
X-ORIGINAL-URL:http://royalblack.org
X-WR-CALDESC:Events for The Royal Black Institution
BEGIN:VTIMEZONE
TZID:UTC
BEGIN:STANDARD
TZOFFSETFROM:+0000
TZOFFSETTO:+0000
TZNAME:UTC
DTSTART:20220101T000000
END:STANDARD
END:VTIMEZONE
BEGIN:VEVENT
DTSTART;TZID=UTC:20220501T143000
DTEND;TZID=UTC:20220501T170000
DTSTAMP:20260423T161544
CREATED:20220419T182934Z
LAST-MODIFIED:20220419T182934Z
UID:1972-1651415400-1651424400@royalblack.org
SUMMARY:Grip Fast the Light RBP No. 54 – Special 175th Anniversary Service
DESCRIPTION:The first in a number of public events to mark RBP 54’s 175th anniversary will be a service of Divine Worship on Sunday 1st May 2022\, D.V.. Sir Knights are asked to assemble at the Millar Memorial Orange Hall\, Markethill\, at 2:30pm for a short procession through the town\, accompanied by Mavemacullen Accordion Band\, prior to the service at 3:00pm. Visiting Sir Knights will be made especially welcome. \nAll members of the public will be made most welcome at the service too which will be conducted by Rev. Dr. Peter Munce\, Rector of Mullabrack and Kilcluney Parishes. \n 
URL:http://royalblack.org/event/grip-fast-the-light-rbp-no-54-special-175th-anniversary-service/
END:VEVENT
END:VCALENDAR