BEGIN:VCALENDAR
VERSION:2.0
PRODID:-//The Royal Black Institution - ECPv5.13.0//NONSGML v1.0//EN
CALSCALE:GREGORIAN
METHOD:PUBLISH
X-WR-CALNAME:The Royal Black Institution
X-ORIGINAL-URL:http://royalblack.org
X-WR-CALDESC:Events for The Royal Black Institution
BEGIN:VTIMEZONE
TZID:UTC
BEGIN:STANDARD
TZOFFSETFROM:+0000
TZOFFSETTO:+0000
TZNAME:UTC
DTSTART:20170101T000000
END:STANDARD
END:VTIMEZONE
BEGIN:VEVENT
DTSTART;VALUE=DATE:20170617
DTEND;VALUE=DATE:20170618
DTSTAMP:20260421T081601
CREATED:20170321T100247Z
LAST-MODIFIED:20170321T100247Z
UID:620-1497657600-1497743999@royalblack.org
SUMMARY:Grand Council – Southern Area
DESCRIPTION:Grand Council – Southern Area (Richard Roberts) Memorial Hall\, Mill Street\, Toxteth\, Liverpool L8 6SN.
URL:http://royalblack.org/event/grand-council-southern-area/
END:VEVENT
END:VCALENDAR