BEGIN:VCALENDAR
VERSION:2.0
PRODID:-//The Royal Black Institution - ECPv5.13.0//NONSGML v1.0//EN
CALSCALE:GREGORIAN
METHOD:PUBLISH
X-WR-CALNAME:The Royal Black Institution
X-ORIGINAL-URL:http://royalblack.org
X-WR-CALDESC:Events for The Royal Black Institution
BEGIN:VTIMEZONE
TZID:UTC
BEGIN:STANDARD
TZOFFSETFROM:+0000
TZOFFSETTO:+0000
TZNAME:UTC
DTSTART:20160101T000000
END:STANDARD
END:VTIMEZONE
BEGIN:VEVENT
DTSTART;TZID=UTC:20160807T153000
DTEND;TZID=UTC:20160807T170000
DTSTAMP:20260421T231855
CREATED:20160301T111409Z
LAST-MODIFIED:20160301T111409Z
UID:474-1470583800-1470589200@royalblack.org
SUMMARY:Eldon R.B.P. 33 – 150th Anniversary Service
DESCRIPTION:Eldon R.B.P. 33 – 150th Anniversary Service in Aghabog Parish Church\, Newbliss\, Co. Monaghan at 3.30pm             (parade prior to commencement of service)
URL:http://royalblack.org/event/eldon-r-b-p-33-150th-anniversary-service/
END:VEVENT
END:VCALENDAR