BEGIN:VCALENDAR
VERSION:2.0
PRODID:-//The Royal Black Institution - ECPv5.13.0//NONSGML v1.0//EN
CALSCALE:GREGORIAN
METHOD:PUBLISH
X-WR-CALNAME:The Royal Black Institution
X-ORIGINAL-URL:http://royalblack.org
X-WR-CALDESC:Events for The Royal Black Institution
BEGIN:VTIMEZONE
TZID:UTC
BEGIN:STANDARD
TZOFFSETFROM:+0000
TZOFFSETTO:+0000
TZNAME:UTC
DTSTART:20160101T000000
END:STANDARD
END:VTIMEZONE
BEGIN:VEVENT
DTSTART;TZID=UTC:20160825T080000
DTEND;TZID=UTC:20160825T170000
DTSTAMP:20260421T182959
CREATED:20160301T111714Z
LAST-MODIFIED:20160301T111714Z
UID:476-1472112000-1472144400@royalblack.org
SUMMARY:Desertmartin Knights of the Link & Chain R.B.P. 576
DESCRIPTION:Desertmartin Knights of the Link & Chain R.B.P. 576 – Banner Unfurling (venue and time to be arranged)
URL:http://royalblack.org/event/desertmartin-knights-of-the-link-chain-r-b-p-576/
END:VEVENT
END:VCALENDAR