BEGIN:VCALENDAR
VERSION:2.0
PRODID:-//The Royal Black Institution - ECPv5.13.0//NONSGML v1.0//EN
CALSCALE:GREGORIAN
METHOD:PUBLISH
X-WR-CALNAME:The Royal Black Institution
X-ORIGINAL-URL:http://royalblack.org
X-WR-CALDESC:Events for The Royal Black Institution
BEGIN:VTIMEZONE
TZID:UTC
BEGIN:STANDARD
TZOFFSETFROM:+0000
TZOFFSETTO:+0000
TZNAME:UTC
DTSTART:20170101T000000
END:STANDARD
END:VTIMEZONE
BEGIN:VEVENT
DTSTART;VALUE=DATE:20170924
DTEND;VALUE=DATE:20170925
DTSTAMP:20260419T202938
CREATED:20170905T151125Z
LAST-MODIFIED:20170905T151125Z
UID:976-1506211200-1506297599@royalblack.org
SUMMARY:County Tyrone Grand Black Chapter in conjunction with County Tyrone Orange
DESCRIPTION:September 24 East Tyrone R.B.D.C. No. 5 and County Tyrone Orange – Service in Tullanisken Parish Church at 3pm.  Service conducted by Rev. William Anderson. \nSeptember 24 Omagh R.B.D.C. No. 4 – Service in Ardstraw Presbyterian Church conducted by Rev. David Reid.
URL:http://royalblack.org/event/county-tyrone-grand-black-chapter-in-conjunction-with-county-tyrone-orange/
END:VEVENT
END:VCALENDAR