BEGIN:VCALENDAR
VERSION:2.0
PRODID:-//The Royal Black Institution - ECPv5.13.0//NONSGML v1.0//EN
CALSCALE:GREGORIAN
METHOD:PUBLISH
X-WR-CALNAME:The Royal Black Institution
X-ORIGINAL-URL:http://royalblack.org
X-WR-CALDESC:Events for The Royal Black Institution
BEGIN:VTIMEZONE
TZID:UTC
BEGIN:STANDARD
TZOFFSETFROM:+0000
TZOFFSETTO:+0000
TZNAME:UTC
DTSTART:20170101T000000
END:STANDARD
END:VTIMEZONE
BEGIN:VEVENT
DTSTART;TZID=UTC:20171019T200000
DTEND;TZID=UTC:20171019T223000
DTSTAMP:20260419T130813
CREATED:20170905T151200Z
LAST-MODIFIED:20170905T151200Z
UID:978-1508443200-1508452200@royalblack.org
SUMMARY:County Tyrone Grand Black Chapter in conjunction with County Tyrone Orange
DESCRIPTION:October 19     East Tyrone R.B.D.C. No. 5 and R.B.P. 259 – Service in Bonn Orange Hall at 8pm.  Service conducted by Rev. Trevor Boyd.
URL:http://royalblack.org/event/county-tyrone-grand-black-chapter-in-conjunction-with-county-tyrone-orange-2/
END:VEVENT
END:VCALENDAR