BEGIN:VCALENDAR
VERSION:2.0
PRODID:-//The Royal Black Institution - ECPv5.13.0//NONSGML v1.0//EN
CALSCALE:GREGORIAN
METHOD:PUBLISH
X-WR-CALNAME:The Royal Black Institution
X-ORIGINAL-URL:http://royalblack.org
X-WR-CALDESC:Events for The Royal Black Institution
BEGIN:VTIMEZONE
TZID:UTC
BEGIN:STANDARD
TZOFFSETFROM:+0000
TZOFFSETTO:+0000
TZNAME:UTC
DTSTART:20170101T000000
END:STANDARD
END:VTIMEZONE
BEGIN:VEVENT
DTSTART;TZID=UTC:20170910T150000
DTEND;TZID=UTC:20170910T170000
DTSTAMP:20260420T115800
CREATED:20170905T150004Z
LAST-MODIFIED:20170905T150004Z
UID:958-1505055600-1505062800@royalblack.org
SUMMARY:County Down Grand Black Chapter in conjunction with County Down Grand Orange Lodge
DESCRIPTION:September 10 Mourne Orange & Black Districts – Service in Mourne Presbyterian at 3pm conducted by Worshipful Sir Knight & Brother Rev. William Bingham. \nSeptember 10 Lower Iveagh\, Lower Iveagh West\, Saintfield\, Hillsborough\, Ballynahinch and Largymore Orange & Black Districts – Service in 1st Dromore Presbyterian Church at 3pm conducted by Worshipful Sir Knight and Brother Rev. Nigel Kane. \nSeptember 10 Newtownards\, Comber\, Holywood\, Upper Ards\, Lecale and Bangor Orange & Black Districts – Service in Greenwell Street Presbyterian Church at 3pm conducted by Worshipful Sir Knight and Brother Rev. Trevor Boyd. \nSeptember 17 Banbridge\, Bann Valley\, Castlewellan\, Gilford\, Loughbrickland\, Newry and Rathfriland Orange & Black Districts – Service in 1st Rathfriland Presbyterian Church at 3pm conducted by Right Worshipful Sir Knight & Brother Rev. Nigel Reid. \nA series of talks\, presentations or discussions arranged at District & Preceptory / Lodge level within County Down on the topic – ‘Why the Reformation Still Matters Today’ in a material world\, and momentary life.
URL:http://royalblack.org/event/county-down-grand-black-chapter-in-conjunction-with-county-down-grand-orange-lodge/
END:VEVENT
END:VCALENDAR