BEGIN:VCALENDAR
VERSION:2.0
PRODID:-//The Royal Black Institution - ECPv5.13.0//NONSGML v1.0//EN
CALSCALE:GREGORIAN
METHOD:PUBLISH
X-WR-CALNAME:The Royal Black Institution
X-ORIGINAL-URL:http://royalblack.org
X-WR-CALDESC:Events for The Royal Black Institution
BEGIN:VTIMEZONE
TZID:UTC
BEGIN:STANDARD
TZOFFSETFROM:+0000
TZOFFSETTO:+0000
TZNAME:UTC
DTSTART:20150101T000000
END:STANDARD
END:VTIMEZONE
BEGIN:VEVENT
DTSTART;TZID=UTC:20150830T100000
DTEND;TZID=UTC:20150830T103000
DTSTAMP:20260425T003707
CREATED:20150731T123325Z
LAST-MODIFIED:20150731T123325Z
UID:445-1440928800-1440930600@royalblack.org
SUMMARY:Cloughfin RBP 58 Service
DESCRIPTION:Cloughfin RBP 58 Service in Sixmilecross Presbyterian Church @ 10 for 10.30am
URL:http://royalblack.org/event/cloughfin-rbp-58-service/
END:VEVENT
END:VCALENDAR