BEGIN:VCALENDAR
VERSION:2.0
PRODID:-//The Royal Black Institution - ECPv5.13.0//NONSGML v1.0//EN
CALSCALE:GREGORIAN
METHOD:PUBLISH
X-WR-CALNAME:The Royal Black Institution
X-ORIGINAL-URL:http://royalblack.org
X-WR-CALDESC:Events for The Royal Black Institution
BEGIN:VTIMEZONE
TZID:UTC
BEGIN:STANDARD
TZOFFSETFROM:+0000
TZOFFSETTO:+0000
TZNAME:UTC
DTSTART:20180101T000000
END:STANDARD
END:VTIMEZONE
BEGIN:VEVENT
DTSTART;TZID=UTC:20180921T193000
DTEND;TZID=UTC:20180921T223000
DTSTAMP:20260420T092904
CREATED:20180820T122504Z
LAST-MODIFIED:20180820T122504Z
UID:1378-1537558200-1537569000@royalblack.org
SUMMARY:Bruce's True Blues Concert
DESCRIPTION:Concert to commemorate the ending of the Great War \nFeaturing Willie Drennan and his band\, Bruce’s True Blues Accordion Band & Bellaghy Primary School choir \nTo be held in Bellaghy Presbyterian Church Hall on Friday 21 September @ 7.30pm \nThe evening will conclude with a wreath-laying ceremony \nAdmission £10
URL:http://royalblack.org/event/bruces-true-blues-concert/
END:VEVENT
END:VCALENDAR