BEGIN:VCALENDAR
VERSION:2.0
PRODID:-//The Royal Black Institution - ECPv5.13.0//NONSGML v1.0//EN
CALSCALE:GREGORIAN
METHOD:PUBLISH
X-WR-CALNAME:The Royal Black Institution
X-ORIGINAL-URL:http://royalblack.org
X-WR-CALDESC:Events for The Royal Black Institution
BEGIN:VTIMEZONE
TZID:UTC
BEGIN:STANDARD
TZOFFSETFROM:+0000
TZOFFSETTO:+0000
TZNAME:UTC
DTSTART:20160101T000000
END:STANDARD
END:VTIMEZONE
BEGIN:VEVENT
DTSTART;TZID=UTC:20160501T143000
DTEND;TZID=UTC:20160501T170000
DTSTAMP:20260424T141343
CREATED:20160301T105939Z
LAST-MODIFIED:20160301T105939Z
UID:466-1462113000-1462122000@royalblack.org
SUMMARY:Ballymacarrett R.B.D.C. No. 4\, Belfast Annual Protestant Martyrs Service
DESCRIPTION:Ballymacarrett R.B.D.C. No. 4\, Belfast Annual Protestant Martyrs Service to Calvary Baptist Church (leaving Templemore Avenue at 2.30pm)
URL:http://royalblack.org/event/ballymacarrett-r-b-d-c-no-4-belfast-annual-protestant-martyrs-service/
END:VEVENT
END:VCALENDAR