BEGIN:VCALENDAR
VERSION:2.0
PRODID:-//The Royal Black Institution - ECPv5.13.0//NONSGML v1.0//EN
CALSCALE:GREGORIAN
METHOD:PUBLISH
X-WR-CALNAME:The Royal Black Institution
X-ORIGINAL-URL:http://royalblack.org
X-WR-CALDESC:Events for The Royal Black Institution
BEGIN:VTIMEZONE
TZID:UTC
BEGIN:STANDARD
TZOFFSETFROM:+0000
TZOFFSETTO:+0000
TZNAME:UTC
DTSTART:20160101T000000
END:STANDARD
END:VTIMEZONE
BEGIN:VEVENT
DTSTART;TZID=UTC:20160729T073000
DTEND;TZID=UTC:20160729T210000
DTSTAMP:20260422T050311
CREATED:20160301T110535Z
LAST-MODIFIED:20160301T110535Z
UID:471-1469777400-1469826000@royalblack.org
SUMMARY:Ahoghill R.B.P. 173 Banner Unfurling
DESCRIPTION:Ahoghill R.B.P. 173 Banner Unfurling at Ahoghill District Orange Hall at 7.30pm
URL:http://royalblack.org/event/ahoghill-r-b-p-173-banner-unfurling/
END:VEVENT
END:VCALENDAR