BEGIN:VCALENDAR
VERSION:2.0
PRODID:-//The Royal Black Institution - ECPv5.13.0//NONSGML v1.0//EN
CALSCALE:GREGORIAN
METHOD:PUBLISH
X-WR-CALNAME:The Royal Black Institution
X-ORIGINAL-URL:http://royalblack.org
X-WR-CALDESC:Events for The Royal Black Institution
BEGIN:VTIMEZONE
TZID:UTC
BEGIN:STANDARD
TZOFFSETFROM:+0000
TZOFFSETTO:+0000
TZNAME:UTC
DTSTART:20170101T000000
END:STANDARD
END:VTIMEZONE
BEGIN:VEVENT
DTSTART;TZID=UTC:20170701T190000
DTEND;TZID=UTC:20170701T220000
DTSTAMP:20260421T062155
CREATED:20170321T100328Z
LAST-MODIFIED:20170321T100328Z
UID:622-1498935600-1498946400@royalblack.org
SUMMARY:101st anniversary of Battle of the Somme
DESCRIPTION:101st anniversary of Battle of the Somme – 8th annual parade held in Slamannan Starts 7pm from Slamannan Church\, Service being conducted by Rev Henry L Williamson 
URL:http://royalblack.org/event/101st-anniversary-of-battle-of-the-somme/
END:VEVENT
END:VCALENDAR