BEGIN:VCALENDAR
VERSION:2.0
PRODID:-//The Royal Black Institution - ECPv5.13.0//NONSGML v1.0//EN
CALSCALE:GREGORIAN
METHOD:PUBLISH
X-WR-CALNAME:The Royal Black Institution
X-ORIGINAL-URL:http://royalblack.org
X-WR-CALDESC:Events for The Royal Black Institution
BEGIN:VTIMEZONE
TZID:UTC
BEGIN:STANDARD
TZOFFSETFROM:+0000
TZOFFSETTO:+0000
TZNAME:UTC
DTSTART:20160101T000000
END:STANDARD
END:VTIMEZONE
BEGIN:VEVENT
DTSTART;TZID=UTC:20160701T190000
DTEND;TZID=UTC:20160701T210000
DTSTAMP:20260424T105107
CREATED:20160301T110121Z
LAST-MODIFIED:20160301T110121Z
UID:468-1467399600-1467406800@royalblack.org
SUMMARY:100th anniversary of Battle of the Somme
DESCRIPTION:100th anniversary of Battle of the Somme – 7th annual parade held in Slamannan Starts 7pm from Slamannan Church\, Service being conducted by Rev Henry L Williamson
URL:http://royalblack.org/event/100th-anniversary-of-battle-of-the-somme/
END:VEVENT
END:VCALENDAR